BEGIN:VCALENDAR
VERSION:2.0
PRODID:-//Eventin//Event Calendar//EN
CALSCALE:GREGORIAN
METHOD:PUBLISH
BEGIN:VEVENT
UID:2d28ae90abf87798d0fa1764959ac734@events.southwestuniversity.edu
SUMMARY:SU on the move – Puppy Yoga
DESCRIPTION:
LOCATION:6101 Montana Ave\, El Paso\, TX 79925 (Building 800)
DTSTAMP:20260420T144626Z
DTSTART:20260521T000000Z
DTEND:20260521T010000Z
END:VEVENT
END:VCALENDAR
