BEGIN:VCALENDAR
VERSION:2.0
PRODID:-//eventon.com NONSGML v1.0//EN
CALSCALE:GREGORIAN
METHOD:PUBLISH
BEGIN:VEVENT
UID:69e63d7c9f01a
DTSTAMP:20260420T145140Z
DTSTART:20260521T000000Z
DTEND:20260521T010000Z
LOCATION:
SUMMARY:SU on the move - Puppy Yoga
DESCRIPTION:SU on the move - Puppy Yoga\nhttps://events.southwestuniversity
 .edu/events/su-on-the-move-puppy-yoga/
URL:https://events.southwestuniversity.edu/events/su-on-the-move-puppy-yoga/
END:VEVENT
END:VCALENDAR